BEGIN:VCALENDAR
VERSION:2.0
PRODID:-//SaskOCB - ECPv6.10.1.1//NONSGML v1.0//EN
CALSCALE:GREGORIAN
METHOD:PUBLISH
X-ORIGINAL-URL:https://saskocb.ca
X-WR-CALDESC:Events for SaskOCB
REFRESH-INTERVAL;VALUE=DURATION:PT1H
X-Robots-Tag:noindex
X-PUBLISHED-TTL:PT1H
BEGIN:VTIMEZONE
TZID:America/Toronto
BEGIN:DAYLIGHT
TZOFFSETFROM:-0500
TZOFFSETTO:-0400
TZNAME:EDT
DTSTART:20200308T070000
END:DAYLIGHT
BEGIN:STANDARD
TZOFFSETFROM:-0400
TZOFFSETTO:-0500
TZNAME:EST
DTSTART:20201101T060000
END:STANDARD
END:VTIMEZONE
BEGIN:VEVENT
DTSTART;TZID=America/Toronto:20200911T080000
DTEND;TZID=America/Toronto:20200911T170000
DTSTAMP:20260420T191915
CREATED:20190923T171603Z
LAST-MODIFIED:20200504T162427Z
UID:1622-1599811200-1599843600@saskocb.ca
SUMMARY:September 11\, 2020
DESCRIPTION:Application submission deadline September 2\, 2020
URL:https://saskocb.ca/event/august-21-2020/
CATEGORIES:Board Meetings
END:VEVENT
END:VCALENDAR